BEGIN:VCALENDAR
VERSION:2.0
PRODID:-//Uudenkaupungin Urheilukeskus - ECPv4.6.21//NONSGML v1.0//EN
CALSCALE:GREGORIAN
METHOD:PUBLISH
X-WR-CALNAME:Uudenkaupungin Urheilukeskus
X-ORIGINAL-URL:https://ukinurheilukeskus.fi
X-WR-CALDESC:Events for Uudenkaupungin Urheilukeskus
BEGIN:VEVENT
DTSTART;TZID=Europe/Helsinki:20240312T180000
DTEND;TZID=Europe/Helsinki:20240312T190000
DTSTAMP:20260419T131811
CREATED:20240216T152438Z
LAST-MODIFIED:20240216T152559Z
UID:10705-1710266400-1710270000@ukinurheilukeskus.fi
SUMMARY:Villasukka-Jumppa
DESCRIPTION:Jenni \n
URL:https://ukinurheilukeskus.fi/event/villasukka-jumppa-5-2024-03-12/
LOCATION:Mältintie 10\, Uusikaupunki\, 23500\, Suomi
END:VEVENT
END:VCALENDAR