BEGIN:VCALENDAR
VERSION:2.0
PRODID:-//Uudenkaupungin Urheilukeskus - ECPv4.6.21//NONSGML v1.0//EN
CALSCALE:GREGORIAN
METHOD:PUBLISH
X-WR-CALNAME:Uudenkaupungin Urheilukeskus
X-ORIGINAL-URL:https://ukinurheilukeskus.fi
X-WR-CALDESC:Events for Uudenkaupungin Urheilukeskus
BEGIN:VEVENT
DTSTART;TZID=Europe/Helsinki:20241114T160000
DTEND;TZID=Europe/Helsinki:20241114T164500
DTSTAMP:20260424T110457
CREATED:20241030T144713Z
LAST-MODIFIED:20241030T144716Z
UID:11566-1731600000-1731602700@ukinurheilukeskus.fi
SUMMARY:Vauva&Vanhempi jumppa
DESCRIPTION:Jenni \n
URL:https://ukinurheilukeskus.fi/event/vauvavanhempi-jumppa-4/
LOCATION:Mältintie 10\, Uusikaupunki\, 23500\, Suomi
END:VEVENT
END:VCALENDAR