BEGIN:VCALENDAR
VERSION:2.0
PRODID:-//Uudenkaupungin Urheilukeskus - ECPv4.6.21//NONSGML v1.0//EN
CALSCALE:GREGORIAN
METHOD:PUBLISH
X-WR-CALNAME:Uudenkaupungin Urheilukeskus
X-ORIGINAL-URL:https://ukinurheilukeskus.fi
X-WR-CALDESC:Events for Uudenkaupungin Urheilukeskus
BEGIN:VEVENT
DTSTART;TZID=Europe/Helsinki:20240201T123000
DTEND;TZID=Europe/Helsinki:20240201T131500
DTSTAMP:20260419T120706
CREATED:20240117T135842Z
LAST-MODIFIED:20240117T135857Z
UID:10631-1706790600-1706793300@ukinurheilukeskus.fi
SUMMARY:Vauva+vanhempi jumppa
DESCRIPTION:mukaan pääsee myös kertamaksulla (5e) \n
URL:https://ukinurheilukeskus.fi/event/vauvavaanhempi-jumppa/
LOCATION:Mältintie 10\, Uusikaupunki\, 23500\, Suomi
END:VEVENT
END:VCALENDAR