BEGIN:VCALENDAR
VERSION:2.0
PRODID:-//Uudenkaupungin Urheilukeskus - ECPv4.6.21//NONSGML v1.0//EN
CALSCALE:GREGORIAN
METHOD:PUBLISH
X-WR-CALNAME:Uudenkaupungin Urheilukeskus
X-ORIGINAL-URL:https://ukinurheilukeskus.fi
X-WR-CALDESC:Events for Uudenkaupungin Urheilukeskus
BEGIN:VEVENT
DTSTART;TZID=Europe/Helsinki:20230907T123000
DTEND;TZID=Europe/Helsinki:20230907T131500
DTSTAMP:20260423T050438
CREATED:20230831T133348Z
LAST-MODIFIED:20230831T134639Z
UID:9913-1694089800-1694092500@ukinurheilukeskus.fi
SUMMARY:Vauva-vanhempi jumppa\, UUSI KURSSI ALKAA!
DESCRIPTION:ohjaaja Jenni \n
URL:https://ukinurheilukeskus.fi/event/vauva-vanhempi-jumppa-uusi-kurssi-alkaa/
LOCATION:Mältintie 10\, Uusikaupunki\, 23500\, Suomi
END:VEVENT
END:VCALENDAR