BEGIN:VCALENDAR
VERSION:2.0
PRODID:-//Uudenkaupungin Urheilukeskus - ECPv4.6.21//NONSGML v1.0//EN
CALSCALE:GREGORIAN
METHOD:PUBLISH
X-WR-CALNAME:Uudenkaupungin Urheilukeskus
X-ORIGINAL-URL:https://ukinurheilukeskus.fi
X-WR-CALDESC:Events for Uudenkaupungin Urheilukeskus
BEGIN:VEVENT
DTSTART;TZID=Europe/Helsinki:20240104T123000
DTEND;TZID=Europe/Helsinki:20240104T131500
DTSTAMP:20260423T002235
CREATED:20240103T175330Z
LAST-MODIFIED:20240103T175336Z
UID:10430-1704371400-1704374100@ukinurheilukeskus.fi
SUMMARY:Vauva-Vanhempi jumppa jatkuu taas!
DESCRIPTION:Jenni \n
URL:https://ukinurheilukeskus.fi/event/vauva-vanhempi-jumppa-jatkuu-taas/
LOCATION:Mältintie 10\, Uusikaupunki\, 23500\, Suomi
END:VEVENT
END:VCALENDAR