BEGIN:VCALENDAR
VERSION:2.0
PRODID:-//Uudenkaupungin Urheilukeskus - ECPv4.6.21//NONSGML v1.0//EN
CALSCALE:GREGORIAN
METHOD:PUBLISH
X-WR-CALNAME:Uudenkaupungin Urheilukeskus
X-ORIGINAL-URL:https://ukinurheilukeskus.fi
X-WR-CALDESC:Events for Uudenkaupungin Urheilukeskus
BEGIN:VEVENT
DTSTART;TZID=Europe/Helsinki:20231009T173000
DTEND;TZID=Europe/Helsinki:20231009T183000
DTSTAMP:20260423T035318
CREATED:20230925T130905Z
LAST-MODIFIED:20230925T130911Z
UID:9979-1696872600-1696876200@ukinurheilukeskus.fi
SUMMARY:Vatsa-selkä-pakara
DESCRIPTION:Mia \n
URL:https://ukinurheilukeskus.fi/event/vatsa-selka-pakara-3/
LOCATION:Mältintie 10\, Uusikaupunki\, 23500\, Suomi
END:VEVENT
END:VCALENDAR