BEGIN:VCALENDAR
VERSION:2.0
PRODID:-//Uudenkaupungin Urheilukeskus - ECPv4.6.21//NONSGML v1.0//EN
CALSCALE:GREGORIAN
METHOD:PUBLISH
X-WR-CALNAME:Uudenkaupungin Urheilukeskus
X-ORIGINAL-URL:https://ukinurheilukeskus.fi
X-WR-CALDESC:Events for Uudenkaupungin Urheilukeskus
BEGIN:VEVENT
DTSTART;TZID=Europe/Helsinki:20260210T183000
DTEND;TZID=Europe/Helsinki:20260210T193000
DTSTAMP:20260421T120512
CREATED:20260123T133318Z
LAST-MODIFIED:20260209T134356Z
UID:13106-1770748200-1770751800@ukinurheilukeskus.fi
SUMMARY:Vatsa-selkä-pakara
DESCRIPTION:Jenni\, \nHUOM! Muuttunut aika! \n
URL:https://ukinurheilukeskus.fi/event/vatsa-selka-pakara-24/
END:VEVENT
END:VCALENDAR