BEGIN:VCALENDAR
VERSION:2.0
PRODID:-//Uudenkaupungin Urheilukeskus - ECPv4.6.21//NONSGML v1.0//EN
CALSCALE:GREGORIAN
METHOD:PUBLISH
X-WR-CALNAME:Uudenkaupungin Urheilukeskus
X-ORIGINAL-URL:https://ukinurheilukeskus.fi
X-WR-CALDESC:Events for Uudenkaupungin Urheilukeskus
BEGIN:VEVENT
DTSTART;TZID=Europe/Helsinki:20260203T180000
DTEND;TZID=Europe/Helsinki:20260203T190000
DTSTAMP:20260421T120358
CREATED:20260123T132743Z
LAST-MODIFIED:20260123T132743Z
UID:13086-1770141600-1770145200@ukinurheilukeskus.fi
SUMMARY:Vatsa-selkä-pakara
DESCRIPTION:Mia \n
URL:https://ukinurheilukeskus.fi/event/vatsa-selka-pakara-20/
END:VEVENT
END:VCALENDAR