BEGIN:VCALENDAR
VERSION:2.0
PRODID:-//Uudenkaupungin Urheilukeskus - ECPv4.6.21//NONSGML v1.0//EN
CALSCALE:GREGORIAN
METHOD:PUBLISH
X-WR-CALNAME:Uudenkaupungin Urheilukeskus
X-ORIGINAL-URL:https://ukinurheilukeskus.fi
X-WR-CALDESC:Events for Uudenkaupungin Urheilukeskus
BEGIN:VEVENT
DTSTART;TZID=Europe/Helsinki:20260120T180000
DTEND;TZID=Europe/Helsinki:20260120T190000
DTSTAMP:20260421T132440
CREATED:20260105T131634Z
LAST-MODIFIED:20260105T131634Z
UID:13031-1768932000-1768935600@ukinurheilukeskus.fi
SUMMARY:Vatsa-selkä-pakara
DESCRIPTION:Mia \n
URL:https://ukinurheilukeskus.fi/event/vatsa-selka-pakara-18/
END:VEVENT
END:VCALENDAR