BEGIN:VCALENDAR
VERSION:2.0
PRODID:-//Uudenkaupungin Urheilukeskus - ECPv4.6.21//NONSGML v1.0//EN
CALSCALE:GREGORIAN
METHOD:PUBLISH
X-WR-CALNAME:Uudenkaupungin Urheilukeskus
X-ORIGINAL-URL:https://ukinurheilukeskus.fi
X-WR-CALDESC:Events for Uudenkaupungin Urheilukeskus
BEGIN:VEVENT
DTSTART;TZID=Europe/Helsinki:20260113T180000
DTEND;TZID=Europe/Helsinki:20260113T190000
DTSTAMP:20260421T132335
CREATED:20251222T153239Z
LAST-MODIFIED:20260112T103025Z
UID:12999-1768327200-1768330800@ukinurheilukeskus.fi
SUMMARY:Vatsa-selkä-pakara\, RYHMÄ ALKAA!
DESCRIPTION:Mia \n
URL:https://ukinurheilukeskus.fi/event/vatsa-selka-pakara-17/
END:VEVENT
END:VCALENDAR