BEGIN:VCALENDAR
VERSION:2.0
PRODID:-//Uudenkaupungin Urheilukeskus - ECPv4.6.21//NONSGML v1.0//EN
CALSCALE:GREGORIAN
METHOD:PUBLISH
X-WR-CALNAME:Uudenkaupungin Urheilukeskus
X-ORIGINAL-URL:https://ukinurheilukeskus.fi
X-WR-CALDESC:Events for Uudenkaupungin Urheilukeskus
BEGIN:VEVENT
DTSTART;TZID=Europe/Helsinki:20190108T180000
DTEND;TZID=Europe/Helsinki:20190108T190000
DTSTAMP:20260420T084809
CREATED:20181230T153417Z
LAST-MODIFIED:20190425T153459Z
UID:3944-1546970400-1546974000@ukinurheilukeskus.fi
SUMMARY:Vatsa-Selkä + Liikkuvuus
DESCRIPTION:Ohjaajana Merita Laukkanen \nFysioterapeutin ohjaama keskivartaloa vahvistava tunti. Tunnilla tehdään avaavia liikkeitä. \n
URL:https://ukinurheilukeskus.fi/event/vatsa-selka-liikkuvuus/2019-01-08/
LOCATION:Mältintie 10\, Uusikaupunki\, 23500\, Suomi
END:VEVENT
END:VCALENDAR