BEGIN:VCALENDAR
VERSION:2.0
PRODID:-//Uudenkaupungin Urheilukeskus - ECPv4.6.21//NONSGML v1.0//EN
CALSCALE:GREGORIAN
METHOD:PUBLISH
X-WR-CALNAME:Uudenkaupungin Urheilukeskus
X-ORIGINAL-URL:https://ukinurheilukeskus.fi
X-WR-CALDESC:Events for Uudenkaupungin Urheilukeskus
BEGIN:VEVENT
DTSTART;TZID=Europe/Helsinki:20260218T180000
DTEND;TZID=Europe/Helsinki:20260218T190000
DTSTAMP:20260421T120525
CREATED:20260123T133144Z
LAST-MODIFIED:20260123T133144Z
UID:13102-1771437600-1771441200@ukinurheilukeskus.fi
SUMMARY:Toiminnallinen circuit
DESCRIPTION:Jenni \n
URL:https://ukinurheilukeskus.fi/event/toiminnallinen-circuit-47/
END:VEVENT
END:VCALENDAR