BEGIN:VCALENDAR
VERSION:2.0
PRODID:-//Uudenkaupungin Urheilukeskus - ECPv4.6.21//NONSGML v1.0//EN
CALSCALE:GREGORIAN
METHOD:PUBLISH
X-WR-CALNAME:Uudenkaupungin Urheilukeskus
X-ORIGINAL-URL:https://ukinurheilukeskus.fi
X-WR-CALDESC:Events for Uudenkaupungin Urheilukeskus
BEGIN:VEVENT
DTSTART;TZID=Europe/Helsinki:20260211T180000
DTEND;TZID=Europe/Helsinki:20260211T190000
DTSTAMP:20260421T120526
CREATED:20260123T133119Z
LAST-MODIFIED:20260123T133119Z
UID:13100-1770832800-1770836400@ukinurheilukeskus.fi
SUMMARY:Toiminnallinen circuit
DESCRIPTION:Jenni \n
URL:https://ukinurheilukeskus.fi/event/toiminnallinen-circuit-46/
END:VEVENT
END:VCALENDAR