BEGIN:VCALENDAR
VERSION:2.0
PRODID:-//Uudenkaupungin Urheilukeskus - ECPv4.6.21//NONSGML v1.0//EN
CALSCALE:GREGORIAN
METHOD:PUBLISH
X-WR-CALNAME:Uudenkaupungin Urheilukeskus
X-ORIGINAL-URL:https://ukinurheilukeskus.fi
X-WR-CALDESC:Events for Uudenkaupungin Urheilukeskus
BEGIN:VEVENT
DTSTART;TZID=Europe/Helsinki:20260114T180000
DTEND;TZID=Europe/Helsinki:20260114T190000
DTSTAMP:20260421T132440
CREATED:20251222T153401Z
LAST-MODIFIED:20260112T103052Z
UID:13003-1768413600-1768417200@ukinurheilukeskus.fi
SUMMARY:Toiminnallinen circuit\, RYHMÄ ALKAA!
DESCRIPTION:Jenni \n
URL:https://ukinurheilukeskus.fi/event/toiminnallinen-circuit-43/
END:VEVENT
END:VCALENDAR