BEGIN:VCALENDAR
VERSION:2.0
PRODID:-//Uudenkaupungin Urheilukeskus - ECPv4.6.21//NONSGML v1.0//EN
CALSCALE:GREGORIAN
METHOD:PUBLISH
X-WR-CALNAME:Uudenkaupungin Urheilukeskus
X-ORIGINAL-URL:https://ukinurheilukeskus.fi
X-WR-CALDESC:Events for Uudenkaupungin Urheilukeskus
BEGIN:VEVENT
DTSTART;TZID=Europe/Helsinki:20251203T180000
DTEND;TZID=Europe/Helsinki:20251203T190000
DTSTAMP:20260421T150113
CREATED:20251124T113120Z
LAST-MODIFIED:20251124T113123Z
UID:12893-1764784800-1764788400@ukinurheilukeskus.fi
SUMMARY:Toiminnallinen Circuit
DESCRIPTION:Jenni \n
URL:https://ukinurheilukeskus.fi/event/toiminnallinen-circuit-39/
END:VEVENT
END:VCALENDAR