BEGIN:VCALENDAR
VERSION:2.0
PRODID:-//Uudenkaupungin Urheilukeskus - ECPv4.6.21//NONSGML v1.0//EN
CALSCALE:GREGORIAN
METHOD:PUBLISH
X-WR-CALNAME:Uudenkaupungin Urheilukeskus
X-ORIGINAL-URL:https://ukinurheilukeskus.fi
X-WR-CALDESC:Events for Uudenkaupungin Urheilukeskus
BEGIN:VEVENT
DTSTART;TZID=Europe/Helsinki:20251119T180000
DTEND;TZID=Europe/Helsinki:20251119T190000
DTSTAMP:20260421T162002
CREATED:20251010T141802Z
LAST-MODIFIED:20251010T141802Z
UID:12774-1763575200-1763578800@ukinurheilukeskus.fi
SUMMARY:Toiminnallinen circuit
DESCRIPTION:Jenni \n
URL:https://ukinurheilukeskus.fi/event/toiminnallinen-circuit-37/
END:VEVENT
END:VCALENDAR