BEGIN:VCALENDAR
VERSION:2.0
PRODID:-//Uudenkaupungin Urheilukeskus - ECPv4.6.21//NONSGML v1.0//EN
CALSCALE:GREGORIAN
METHOD:PUBLISH
X-WR-CALNAME:Uudenkaupungin Urheilukeskus
X-ORIGINAL-URL:https://ukinurheilukeskus.fi
X-WR-CALDESC:Events for Uudenkaupungin Urheilukeskus
BEGIN:VEVENT
DTSTART;TZID=Europe/Helsinki:20250903T180000
DTEND;TZID=Europe/Helsinki:20250903T190000
DTSTAMP:20260421T190032
CREATED:20250822T122622Z
LAST-MODIFIED:20250903T092425Z
UID:12531-1756922400-1756926000@ukinurheilukeskus.fi
SUMMARY:Toiminnallinen Circuit\, UUSI RATA!
DESCRIPTION:Jenni \n
URL:https://ukinurheilukeskus.fi/event/toiminnallinen-circuit-26/
END:VEVENT
END:VCALENDAR