BEGIN:VCALENDAR
VERSION:2.0
PRODID:-//Uudenkaupungin Urheilukeskus - ECPv4.6.21//NONSGML v1.0//EN
CALSCALE:GREGORIAN
METHOD:PUBLISH
X-WR-CALNAME:Uudenkaupungin Urheilukeskus
X-ORIGINAL-URL:https://ukinurheilukeskus.fi
X-WR-CALDESC:Events for Uudenkaupungin Urheilukeskus
BEGIN:VEVENT
DTSTART;TZID=Europe/Helsinki:20250612T180000
DTEND;TZID=Europe/Helsinki:20250612T190000
DTSTAMP:20260421T235124
CREATED:20250515T133857Z
LAST-MODIFIED:20250515T133933Z
UID:12373-1749751200-1749754800@ukinurheilukeskus.fi
SUMMARY:Toiminnallinen Circuit
DESCRIPTION:Jenni \n
URL:https://ukinurheilukeskus.fi/event/toiminnallinen-circuit-21/
LOCATION:Mältintie 10\, Uusikaupunki\, 23500\, Suomi
END:VEVENT
END:VCALENDAR