BEGIN:VCALENDAR
VERSION:2.0
PRODID:-//Uudenkaupungin Urheilukeskus - ECPv4.6.21//NONSGML v1.0//EN
CALSCALE:GREGORIAN
METHOD:PUBLISH
X-WR-CALNAME:Uudenkaupungin Urheilukeskus
X-ORIGINAL-URL:https://ukinurheilukeskus.fi
X-WR-CALDESC:Events for Uudenkaupungin Urheilukeskus
BEGIN:VEVENT
DTSTART;TZID=Europe/Helsinki:20250327T180000
DTEND;TZID=Europe/Helsinki:20250327T190000
DTSTAMP:20260420T120930
CREATED:20250302T161622Z
LAST-MODIFIED:20250302T161625Z
UID:12112-1743098400-1743102000@ukinurheilukeskus.fi
SUMMARY:Toiminnallinen Circuit
DESCRIPTION:Jenni \n
URL:https://ukinurheilukeskus.fi/event/toiminnallinen-circuit-12/
LOCATION:Mältintie 10\, Uusikaupunki\, 23500\, Suomi
END:VEVENT
END:VCALENDAR