BEGIN:VCALENDAR
VERSION:2.0
PRODID:-//Uudenkaupungin Urheilukeskus - ECPv4.6.21//NONSGML v1.0//EN
CALSCALE:GREGORIAN
METHOD:PUBLISH
X-WR-CALNAME:Uudenkaupungin Urheilukeskus
X-ORIGINAL-URL:https://ukinurheilukeskus.fi
X-WR-CALDESC:Events for Uudenkaupungin Urheilukeskus
BEGIN:VEVENT
DTSTART;TZID=Europe/Helsinki:20240502T183000
DTEND;TZID=Europe/Helsinki:20240502T193000
DTSTAMP:20260422T185122
CREATED:20240423T090422Z
LAST-MODIFIED:20240424T124336Z
UID:10937-1714674600-1714678200@ukinurheilukeskus.fi
SUMMARY:IISI-Spinning + vatsat
DESCRIPTION:Mia \n
URL:https://ukinurheilukeskus.fi/event/spinning-vatsat-extra/
LOCATION:Mältintie 10\, Uusikaupunki\, 23500\, Suomi
END:VEVENT
END:VCALENDAR