BEGIN:VCALENDAR
VERSION:2.0
PRODID:-//Uudenkaupungin Urheilukeskus - ECPv4.6.21//NONSGML v1.0//EN
CALSCALE:GREGORIAN
METHOD:PUBLISH
X-WR-CALNAME:Uudenkaupungin Urheilukeskus
X-ORIGINAL-URL:https://ukinurheilukeskus.fi
X-WR-CALDESC:Events for Uudenkaupungin Urheilukeskus
BEGIN:VEVENT
DTSTART;TZID=Europe/Helsinki:20250903T183000
DTEND;TZID=Europe/Helsinki:20250903T193000
DTSTAMP:20260421T185629
CREATED:20250822T122918Z
LAST-MODIFIED:20250822T123644Z
UID:12536-1756924200-1756927800@ukinurheilukeskus.fi
SUMMARY:Spinning + vatsat RYHMÄ ALKAA!
DESCRIPTION:Johanna \n
URL:https://ukinurheilukeskus.fi/event/spinning-vatsat-9/
END:VEVENT
END:VCALENDAR