BEGIN:VCALENDAR
VERSION:2.0
PRODID:-//Uudenkaupungin Urheilukeskus - ECPv4.6.21//NONSGML v1.0//EN
CALSCALE:GREGORIAN
METHOD:PUBLISH
X-WR-CALNAME:Uudenkaupungin Urheilukeskus
X-ORIGINAL-URL:https://ukinurheilukeskus.fi
X-WR-CALDESC:Events for Uudenkaupungin Urheilukeskus
BEGIN:VEVENT
DTSTART;TZID=Europe/Helsinki:20250522T190000
DTEND;TZID=Europe/Helsinki:20250522T200000
DTSTAMP:20260422T011208
CREATED:20250506T154139Z
LAST-MODIFIED:20250522T100932Z
UID:12344-1747940400-1747944000@ukinurheilukeskus.fi
SUMMARY:Spinning PERUTTU!!!
DESCRIPTION:Mia \n
URL:https://ukinurheilukeskus.fi/event/spinning-vatsat-8/
LOCATION:Mältintie 10\, Uusikaupunki\, 23500\, Suomi
END:VEVENT
END:VCALENDAR