BEGIN:VCALENDAR
VERSION:2.0
PRODID:-//Uudenkaupungin Urheilukeskus - ECPv4.6.21//NONSGML v1.0//EN
CALSCALE:GREGORIAN
METHOD:PUBLISH
X-WR-CALNAME:Uudenkaupungin Urheilukeskus
X-ORIGINAL-URL:https://ukinurheilukeskus.fi
X-WR-CALDESC:Events for Uudenkaupungin Urheilukeskus
BEGIN:VEVENT
DTSTART;TZID=Europe/Helsinki:20260211T183000
DTEND;TZID=Europe/Helsinki:20260211T193000
DTSTAMP:20260421T120049
CREATED:20260123T133009Z
LAST-MODIFIED:20260210T172342Z
UID:13096-1770834600-1770838200@ukinurheilukeskus.fi
SUMMARY:Spinning + vatsat
DESCRIPTION:Jyri \n
URL:https://ukinurheilukeskus.fi/event/spinning-vatsat-19/
END:VEVENT
END:VCALENDAR