BEGIN:VCALENDAR
VERSION:2.0
PRODID:-//Uudenkaupungin Urheilukeskus - ECPv4.6.21//NONSGML v1.0//EN
CALSCALE:GREGORIAN
METHOD:PUBLISH
X-WR-CALNAME:Uudenkaupungin Urheilukeskus
X-ORIGINAL-URL:https://ukinurheilukeskus.fi
X-WR-CALDESC:Events for Uudenkaupungin Urheilukeskus
BEGIN:VEVENT
DTSTART;TZID=Europe/Helsinki:20260128T183000
DTEND;TZID=Europe/Helsinki:20260128T193000
DTSTAMP:20260421T120049
CREATED:20260108T114122Z
LAST-MODIFIED:20260109T143735Z
UID:13064-1769625000-1769628600@ukinurheilukeskus.fi
SUMMARY:Spinning + vatsat
DESCRIPTION:Jyri \n
URL:https://ukinurheilukeskus.fi/event/spinning-vatsat-17/
END:VEVENT
END:VCALENDAR