BEGIN:VCALENDAR
VERSION:2.0
PRODID:-//Uudenkaupungin Urheilukeskus - ECPv4.6.21//NONSGML v1.0//EN
CALSCALE:GREGORIAN
METHOD:PUBLISH
X-WR-CALNAME:Uudenkaupungin Urheilukeskus
X-ORIGINAL-URL:https://ukinurheilukeskus.fi
X-WR-CALDESC:Events for Uudenkaupungin Urheilukeskus
BEGIN:VEVENT
DTSTART;TZID=Europe/Helsinki:20260102T180000
DTEND;TZID=Europe/Helsinki:20260102T190000
DTSTAMP:20260421T132015
CREATED:20251203T143637Z
LAST-MODIFIED:20251222T143847Z
UID:12965-1767376800-1767380400@ukinurheilukeskus.fi
SUMMARY:Spinning ILMOITTAUDU!
DESCRIPTION:Mia \n
URL:https://ukinurheilukeskus.fi/event/spinning-vatsat-13/
END:VEVENT
END:VCALENDAR