BEGIN:VCALENDAR
VERSION:2.0
PRODID:-//Uudenkaupungin Urheilukeskus - ECPv4.6.21//NONSGML v1.0//EN
CALSCALE:GREGORIAN
METHOD:PUBLISH
X-WR-CALNAME:Uudenkaupungin Urheilukeskus
X-ORIGINAL-URL:https://ukinurheilukeskus.fi
X-WR-CALDESC:Events for Uudenkaupungin Urheilukeskus
BEGIN:VEVENT
DTSTART;TZID=Europe/Helsinki:20250917T183000
DTEND;TZID=Europe/Helsinki:20250917T193000
DTSTAMP:20260421T190209
CREATED:20250822T145330Z
LAST-MODIFIED:20250916T143754Z
UID:12570-1758133800-1758137400@ukinurheilukeskus.fi
SUMMARY:Spinning + vatsat\, ILMOITTAUDU!
DESCRIPTION:Johanna \n
URL:https://ukinurheilukeskus.fi/event/spinning-vatsat-11/
END:VEVENT
END:VCALENDAR