BEGIN:VCALENDAR
VERSION:2.0
PRODID:-//Uudenkaupungin Urheilukeskus - ECPv4.6.21//NONSGML v1.0//EN
CALSCALE:GREGORIAN
METHOD:PUBLISH
X-WR-CALNAME:Uudenkaupungin Urheilukeskus
X-ORIGINAL-URL:https://ukinurheilukeskus.fi
X-WR-CALDESC:Events for Uudenkaupungin Urheilukeskus
BEGIN:VEVENT
DTSTART;TZID=Europe/Helsinki:20250624T190000
DTEND;TZID=Europe/Helsinki:20250624T200000
DTSTAMP:20260421T234252
CREATED:20250617T122308Z
LAST-MODIFIED:20250617T122312Z
UID:12415-1750791600-1750795200@ukinurheilukeskus.fi
SUMMARY:Spinning\, HUOM! ILMOITTAUDU!
DESCRIPTION:Mia \n
URL:https://ukinurheilukeskus.fi/event/spinning-huom-ilmoittaudu/
LOCATION:Mältintie 10\, Uusikaupunki\, 23500\, Suomi
END:VEVENT
END:VCALENDAR