BEGIN:VCALENDAR
VERSION:2.0
PRODID:-//Uudenkaupungin Urheilukeskus - ECPv4.6.21//NONSGML v1.0//EN
CALSCALE:GREGORIAN
METHOD:PUBLISH
X-WR-CALNAME:Uudenkaupungin Urheilukeskus
X-ORIGINAL-URL:https://ukinurheilukeskus.fi
X-WR-CALDESC:Events for Uudenkaupungin Urheilukeskus
BEGIN:VEVENT
DTSTART;TZID=Europe/Helsinki:20211004T181500
DTEND;TZID=Europe/Helsinki:20211004T191500
DTSTAMP:20260420T084411
CREATED:20210923T084603Z
LAST-MODIFIED:20210923T084612Z
UID:7248-1633371300-1633374900@ukinurheilukeskus.fi
SUMMARY:Spinning
DESCRIPTION:Ohjaaja Mia \n
URL:https://ukinurheilukeskus.fi/event/spinning-94/2021-10-04/
LOCATION:Mältintie 10\, Uusikaupunki\, 23500\, Suomi
END:VEVENT
END:VCALENDAR