BEGIN:VCALENDAR
VERSION:2.0
PRODID:-//Uudenkaupungin Urheilukeskus - ECPv4.6.21//NONSGML v1.0//EN
CALSCALE:GREGORIAN
METHOD:PUBLISH
X-WR-CALNAME:Uudenkaupungin Urheilukeskus
X-ORIGINAL-URL:https://ukinurheilukeskus.fi
X-WR-CALDESC:Events for Uudenkaupungin Urheilukeskus
BEGIN:VEVENT
DTSTART;TZID=Europe/Helsinki:20210714T180000
DTEND;TZID=Europe/Helsinki:20210714T190000
DTSTAMP:20260421T112521
CREATED:20210628T145653Z
LAST-MODIFIED:20210628T145653Z
UID:7026-1626285600-1626289200@ukinurheilukeskus.fi
SUMMARY:Spinning
DESCRIPTION:Ohjaaja Maria \n
URL:https://ukinurheilukeskus.fi/event/spinning-68/
LOCATION:Mältintie 10\, Uusikaupunki\, 23500\, Suomi
END:VEVENT
END:VCALENDAR