BEGIN:VCALENDAR
VERSION:2.0
PRODID:-//Uudenkaupungin Urheilukeskus - ECPv4.6.21//NONSGML v1.0//EN
CALSCALE:GREGORIAN
METHOD:PUBLISH
X-WR-CALNAME:Uudenkaupungin Urheilukeskus
X-ORIGINAL-URL:https://ukinurheilukeskus.fi
X-WR-CALDESC:Events for Uudenkaupungin Urheilukeskus
BEGIN:VEVENT
DTSTART;TZID=Europe/Helsinki:20210707T180000
DTEND;TZID=Europe/Helsinki:20210707T190000
DTSTAMP:20260420T123401
CREATED:20210628T145615Z
LAST-MODIFIED:20210628T145615Z
UID:7023-1625680800-1625684400@ukinurheilukeskus.fi
SUMMARY:Spinning
DESCRIPTION:Ohjaaja Maria \n
URL:https://ukinurheilukeskus.fi/event/spinning-67/
LOCATION:Mältintie 10\, Uusikaupunki\, 23500\, Suomi
END:VEVENT
END:VCALENDAR