BEGIN:VCALENDAR
VERSION:2.0
PRODID:-//Uudenkaupungin Urheilukeskus - ECPv4.6.21//NONSGML v1.0//EN
CALSCALE:GREGORIAN
METHOD:PUBLISH
X-WR-CALNAME:Uudenkaupungin Urheilukeskus
X-ORIGINAL-URL:https://ukinurheilukeskus.fi
X-WR-CALDESC:Events for Uudenkaupungin Urheilukeskus
BEGIN:VEVENT
DTSTART;TZID=Europe/Helsinki:20260216T183000
DTEND;TZID=Europe/Helsinki:20260216T193000
DTSTAMP:20260421T115157
CREATED:20260123T133626Z
LAST-MODIFIED:20260123T133629Z
UID:13120-1771266600-1771270200@ukinurheilukeskus.fi
SUMMARY:Spinning
DESCRIPTION:Mia \n
URL:https://ukinurheilukeskus.fi/event/spinning-322/
END:VEVENT
END:VCALENDAR