BEGIN:VCALENDAR
VERSION:2.0
PRODID:-//Uudenkaupungin Urheilukeskus - ECPv4.6.21//NONSGML v1.0//EN
CALSCALE:GREGORIAN
METHOD:PUBLISH
X-WR-CALNAME:Uudenkaupungin Urheilukeskus
X-ORIGINAL-URL:https://ukinurheilukeskus.fi
X-WR-CALDESC:Events for Uudenkaupungin Urheilukeskus
BEGIN:VEVENT
DTSTART;TZID=Europe/Helsinki:20260209T183000
DTEND;TZID=Europe/Helsinki:20260209T193000
DTSTAMP:20260421T115157
CREATED:20260123T133526Z
LAST-MODIFIED:20260208T163148Z
UID:13116-1770661800-1770665400@ukinurheilukeskus.fi
SUMMARY:Spinning
DESCRIPTION:Jyri \n
URL:https://ukinurheilukeskus.fi/event/spinning-320/
END:VEVENT
END:VCALENDAR