BEGIN:VCALENDAR
VERSION:2.0
PRODID:-//Uudenkaupungin Urheilukeskus - ECPv4.6.21//NONSGML v1.0//EN
CALSCALE:GREGORIAN
METHOD:PUBLISH
X-WR-CALNAME:Uudenkaupungin Urheilukeskus
X-ORIGINAL-URL:https://ukinurheilukeskus.fi
X-WR-CALDESC:Events for Uudenkaupungin Urheilukeskus
BEGIN:VEVENT
DTSTART;TZID=Europe/Helsinki:20260112T183000
DTEND;TZID=Europe/Helsinki:20260112T193000
DTSTAMP:20260421T131729
CREATED:20251222T153209Z
LAST-MODIFIED:20260112T102923Z
UID:12997-1768242600-1768246200@ukinurheilukeskus.fi
SUMMARY:Spinning
DESCRIPTION:Mia \n
URL:https://ukinurheilukeskus.fi/event/spinning-316/
END:VEVENT
END:VCALENDAR