BEGIN:VCALENDAR
VERSION:2.0
PRODID:-//Uudenkaupungin Urheilukeskus - ECPv4.6.21//NONSGML v1.0//EN
CALSCALE:GREGORIAN
METHOD:PUBLISH
X-WR-CALNAME:Uudenkaupungin Urheilukeskus
X-ORIGINAL-URL:https://ukinurheilukeskus.fi
X-WR-CALDESC:Events for Uudenkaupungin Urheilukeskus
BEGIN:VEVENT
DTSTART;TZID=Europe/Helsinki:20250812T183000
DTEND;TZID=Europe/Helsinki:20250812T193000
DTSTAMP:20260420T045347
CREATED:20250722T154124Z
LAST-MODIFIED:20250806T123658Z
UID:12481-1755023400-1755027000@ukinurheilukeskus.fi
SUMMARY:Spinning
DESCRIPTION:Mia \n
URL:https://ukinurheilukeskus.fi/event/spinning-297/
END:VEVENT
END:VCALENDAR