BEGIN:VCALENDAR
VERSION:2.0
PRODID:-//Uudenkaupungin Urheilukeskus - ECPv4.6.21//NONSGML v1.0//EN
CALSCALE:GREGORIAN
METHOD:PUBLISH
X-WR-CALNAME:Uudenkaupungin Urheilukeskus
X-ORIGINAL-URL:https://ukinurheilukeskus.fi
X-WR-CALDESC:Events for Uudenkaupungin Urheilukeskus
BEGIN:VEVENT
DTSTART;TZID=Europe/Helsinki:20250722T190000
DTEND;TZID=Europe/Helsinki:20250722T200000
DTSTAMP:20260419T160755
CREATED:20250617T125857Z
LAST-MODIFIED:20250702T135834Z
UID:12448-1753210800-1753214400@ukinurheilukeskus.fi
SUMMARY:Spinning\, ILMOITTAUDU!
DESCRIPTION:Mia \n
URL:https://ukinurheilukeskus.fi/event/spinning-295/
LOCATION:Mältintie 10\, Uusikaupunki\, 23500\, Suomi
END:VEVENT
END:VCALENDAR