BEGIN:VCALENDAR
VERSION:2.0
PRODID:-//Uudenkaupungin Urheilukeskus - ECPv4.6.21//NONSGML v1.0//EN
CALSCALE:GREGORIAN
METHOD:PUBLISH
X-WR-CALNAME:Uudenkaupungin Urheilukeskus
X-ORIGINAL-URL:https://ukinurheilukeskus.fi
X-WR-CALDESC:Events for Uudenkaupungin Urheilukeskus
BEGIN:VEVENT
DTSTART;TZID=Europe/Helsinki:20250519T183000
DTEND;TZID=Europe/Helsinki:20250519T193000
DTSTAMP:20260419T120834
CREATED:20250424T140748Z
LAST-MODIFIED:20250424T140748Z
UID:12313-1747679400-1747683000@ukinurheilukeskus.fi
SUMMARY:Spinning
DESCRIPTION:Mia \n
URL:https://ukinurheilukeskus.fi/event/spinning-290/
LOCATION:Mältintie 10\, Uusikaupunki\, 23500\, Suomi
END:VEVENT
END:VCALENDAR