BEGIN:VCALENDAR
VERSION:2.0
PRODID:-//Uudenkaupungin Urheilukeskus - ECPv4.6.21//NONSGML v1.0//EN
CALSCALE:GREGORIAN
METHOD:PUBLISH
X-WR-CALNAME:Uudenkaupungin Urheilukeskus
X-ORIGINAL-URL:https://ukinurheilukeskus.fi
X-WR-CALDESC:Events for Uudenkaupungin Urheilukeskus
BEGIN:VEVENT
DTSTART;TZID=Europe/Helsinki:20240923T184000
DTEND;TZID=Europe/Helsinki:20240923T194000
DTSTAMP:20260422T132126
CREATED:20240822T150152Z
LAST-MODIFIED:20240822T150242Z
UID:11271-1727116800-1727120400@ukinurheilukeskus.fi
SUMMARY:Spinning
DESCRIPTION:Mia \n
URL:https://ukinurheilukeskus.fi/event/spinning-259/2024-09-23/
LOCATION:Mältintie 10\, Uusikaupunki\, 23500\, Suomi
END:VEVENT
END:VCALENDAR