BEGIN:VCALENDAR
VERSION:2.0
PRODID:-//Uudenkaupungin Urheilukeskus - ECPv4.6.21//NONSGML v1.0//EN
CALSCALE:GREGORIAN
METHOD:PUBLISH
X-WR-CALNAME:Uudenkaupungin Urheilukeskus
X-ORIGINAL-URL:https://ukinurheilukeskus.fi
X-WR-CALDESC:Events for Uudenkaupungin Urheilukeskus
BEGIN:VEVENT
DTSTART;TZID=Europe/Helsinki:20240716T190000
DTEND;TZID=Europe/Helsinki:20240716T200000
DTSTAMP:20260420T095423
CREATED:20240625T150518Z
LAST-MODIFIED:20240625T150528Z
UID:11079-1721156400-1721160000@ukinurheilukeskus.fi
SUMMARY:Spinning
DESCRIPTION:Niina \n
URL:https://ukinurheilukeskus.fi/event/spinning-249/
LOCATION:Mältintie 10\, Uusikaupunki\, 23500\, Suomi
END:VEVENT
END:VCALENDAR