BEGIN:VCALENDAR
VERSION:2.0
PRODID:-//Uudenkaupungin Urheilukeskus - ECPv4.6.21//NONSGML v1.0//EN
CALSCALE:GREGORIAN
METHOD:PUBLISH
X-WR-CALNAME:Uudenkaupungin Urheilukeskus
X-ORIGINAL-URL:https://ukinurheilukeskus.fi
X-WR-CALDESC:Events for Uudenkaupungin Urheilukeskus
BEGIN:VEVENT
DTSTART;TZID=Europe/Helsinki:20240709T190000
DTEND;TZID=Europe/Helsinki:20240709T200000
DTSTAMP:20260420T135126
CREATED:20240624T154703Z
LAST-MODIFIED:20240624T154709Z
UID:11064-1720551600-1720555200@ukinurheilukeskus.fi
SUMMARY:Spinning
DESCRIPTION:Niina \n
URL:https://ukinurheilukeskus.fi/event/spinning-248/
LOCATION:Mältintie 10\, Uusikaupunki\, 23500\, Suomi
END:VEVENT
END:VCALENDAR