BEGIN:VCALENDAR
VERSION:2.0
PRODID:-//Uudenkaupungin Urheilukeskus - ECPv4.6.21//NONSGML v1.0//EN
CALSCALE:GREGORIAN
METHOD:PUBLISH
X-WR-CALNAME:Uudenkaupungin Urheilukeskus
X-ORIGINAL-URL:https://ukinurheilukeskus.fi
X-WR-CALDESC:Events for Uudenkaupungin Urheilukeskus
BEGIN:VEVENT
DTSTART;TZID=Europe/Helsinki:20240126T170000
DTEND;TZID=Europe/Helsinki:20240126T180000
DTSTAMP:20260423T001232
CREATED:20240112T141442Z
LAST-MODIFIED:20240123T173432Z
UID:10528-1706288400-1706292000@ukinurheilukeskus.fi
SUMMARY:Spinning ILMOITTAUDU ENNAKKOON!
DESCRIPTION:Jyri \n
URL:https://ukinurheilukeskus.fi/event/spinning-237/
LOCATION:Mältintie 10\, Uusikaupunki\, 23500\, Suomi
END:VEVENT
END:VCALENDAR