BEGIN:VCALENDAR
VERSION:2.0
PRODID:-//Uudenkaupungin Urheilukeskus - ECPv4.6.21//NONSGML v1.0//EN
CALSCALE:GREGORIAN
METHOD:PUBLISH
X-WR-CALNAME:Uudenkaupungin Urheilukeskus
X-ORIGINAL-URL:https://ukinurheilukeskus.fi
X-WR-CALDESC:Events for Uudenkaupungin Urheilukeskus
BEGIN:VEVENT
DTSTART;TZID=Europe/Helsinki:20221116T183000
DTEND;TZID=Europe/Helsinki:20221116T193000
DTSTAMP:20260420T084426
CREATED:20221025T163719Z
LAST-MODIFIED:20221116T144124Z
UID:8797-1668623400-1668627000@ukinurheilukeskus.fi
SUMMARY:Spinning
DESCRIPTION:Ohjaaja Jyri \n
URL:https://ukinurheilukeskus.fi/event/spinning-185-2022-11-16/
LOCATION:Mältintie 10\, Uusikaupunki\, 23500\, Suomi
END:VEVENT
END:VCALENDAR