BEGIN:VCALENDAR
VERSION:2.0
PRODID:-//Uudenkaupungin Urheilukeskus - ECPv4.6.21//NONSGML v1.0//EN
CALSCALE:GREGORIAN
METHOD:PUBLISH
X-WR-CALNAME:Uudenkaupungin Urheilukeskus
X-ORIGINAL-URL:https://ukinurheilukeskus.fi
X-WR-CALDESC:Events for Uudenkaupungin Urheilukeskus
BEGIN:VEVENT
DTSTART;TZID=Europe/Helsinki:20220808T190000
DTEND;TZID=Europe/Helsinki:20220808T200000
DTSTAMP:20260421T133454
CREATED:20220803T131010Z
LAST-MODIFIED:20220803T131046Z
UID:8375-1659985200-1659988800@ukinurheilukeskus.fi
SUMMARY:Spinning
DESCRIPTION:Ohjaaja Mia \n
URL:https://ukinurheilukeskus.fi/event/spinning-161/
LOCATION:Mältintie 10\, Uusikaupunki\, 23500\, Suomi
END:VEVENT
END:VCALENDAR