BEGIN:VCALENDAR
VERSION:2.0
PRODID:-//Uudenkaupungin Urheilukeskus - ECPv4.6.21//NONSGML v1.0//EN
CALSCALE:GREGORIAN
METHOD:PUBLISH
X-WR-CALNAME:Uudenkaupungin Urheilukeskus
X-ORIGINAL-URL:https://ukinurheilukeskus.fi
X-WR-CALDESC:Events for Uudenkaupungin Urheilukeskus
BEGIN:VEVENT
DTSTART;TZID=Europe/Helsinki:20240906T103000
DTEND;TZID=Europe/Helsinki:20240906T113000
DTSTAMP:20260422T132938
CREATED:20240812T132630Z
LAST-MODIFIED:20240812T133656Z
UID:11177-1725618600-1725622200@ukinurheilukeskus.fi
SUMMARY:Seniori kuntosalicircuit\, RYHMÄ ALKAA
DESCRIPTION:Mia \n
URL:https://ukinurheilukeskus.fi/event/seniori-kuntosalicircuit-ryhma-alkaa/
LOCATION:Mältintie 10\, Uusikaupunki\, 23500\, Suomi
END:VEVENT
END:VCALENDAR