BEGIN:VCALENDAR
VERSION:2.0
PRODID:-//Uudenkaupungin Urheilukeskus - ECPv4.6.21//NONSGML v1.0//EN
CALSCALE:GREGORIAN
METHOD:PUBLISH
X-WR-CALNAME:Uudenkaupungin Urheilukeskus
X-ORIGINAL-URL:https://ukinurheilukeskus.fi
X-WR-CALDESC:Events for Uudenkaupungin Urheilukeskus
BEGIN:VEVENT
DTSTART;TZID=Europe/Helsinki:20260126T180000
DTEND;TZID=Europe/Helsinki:20260126T190000
DTSTAMP:20260421T115915
CREATED:20260105T132112Z
LAST-MODIFIED:20260105T132115Z
UID:13050-1769450400-1769454000@ukinurheilukeskus.fi
SUMMARY:Pumppi
DESCRIPTION:Jenni \n
URL:https://ukinurheilukeskus.fi/event/pumppi-86/
END:VEVENT
END:VCALENDAR