BEGIN:VCALENDAR
VERSION:2.0
PRODID:-//Uudenkaupungin Urheilukeskus - ECPv4.6.21//NONSGML v1.0//EN
CALSCALE:GREGORIAN
METHOD:PUBLISH
X-WR-CALNAME:Uudenkaupungin Urheilukeskus
X-ORIGINAL-URL:https://ukinurheilukeskus.fi
X-WR-CALDESC:Events for Uudenkaupungin Urheilukeskus
BEGIN:VEVENT
DTSTART;TZID=Europe/Helsinki:20260119T180000
DTEND;TZID=Europe/Helsinki:20260119T190000
DTSTAMP:20260421T131840
CREATED:20260105T131556Z
LAST-MODIFIED:20260105T131600Z
UID:13029-1768845600-1768849200@ukinurheilukeskus.fi
SUMMARY:Pumppi
DESCRIPTION:Jenni \n
URL:https://ukinurheilukeskus.fi/event/pumppi-85/
END:VEVENT
END:VCALENDAR