BEGIN:VCALENDAR
VERSION:2.0
PRODID:-//Uudenkaupungin Urheilukeskus - ECPv4.6.21//NONSGML v1.0//EN
CALSCALE:GREGORIAN
METHOD:PUBLISH
X-WR-CALNAME:Uudenkaupungin Urheilukeskus
X-ORIGINAL-URL:https://ukinurheilukeskus.fi
X-WR-CALDESC:Events for Uudenkaupungin Urheilukeskus
BEGIN:VEVENT
DTSTART;TZID=Europe/Helsinki:20251215T180000
DTEND;TZID=Europe/Helsinki:20251215T190000
DTSTAMP:20260421T145744
CREATED:20251124T115233Z
LAST-MODIFIED:20251124T124453Z
UID:12948-1765821600-1765825200@ukinurheilukeskus.fi
SUMMARY:Pumppi
DESCRIPTION:Jenni \n
URL:https://ukinurheilukeskus.fi/event/pumppi-81/
END:VEVENT
END:VCALENDAR