BEGIN:VCALENDAR
VERSION:2.0
PRODID:-//Uudenkaupungin Urheilukeskus - ECPv4.6.21//NONSGML v1.0//EN
CALSCALE:GREGORIAN
METHOD:PUBLISH
X-WR-CALNAME:Uudenkaupungin Urheilukeskus
X-ORIGINAL-URL:https://ukinurheilukeskus.fi
X-WR-CALDESC:Events for Uudenkaupungin Urheilukeskus
BEGIN:VEVENT
DTSTART;TZID=Europe/Helsinki:20251201T180000
DTEND;TZID=Europe/Helsinki:20251201T190000
DTSTAMP:20260421T145744
CREATED:20251124T112850Z
LAST-MODIFIED:20251124T112850Z
UID:12885-1764612000-1764615600@ukinurheilukeskus.fi
SUMMARY:Pumppi
DESCRIPTION:Jenni \n
URL:https://ukinurheilukeskus.fi/event/pumppi-78/
END:VEVENT
END:VCALENDAR