BEGIN:VCALENDAR
VERSION:2.0
PRODID:-//Uudenkaupungin Urheilukeskus - ECPv4.6.21//NONSGML v1.0//EN
CALSCALE:GREGORIAN
METHOD:PUBLISH
X-WR-CALNAME:Uudenkaupungin Urheilukeskus
X-ORIGINAL-URL:https://ukinurheilukeskus.fi
X-WR-CALDESC:Events for Uudenkaupungin Urheilukeskus
BEGIN:VEVENT
DTSTART;TZID=Europe/Helsinki:20221201T180000
DTEND;TZID=Europe/Helsinki:20221201T190000
DTSTAMP:20260419T134610
CREATED:20221121T105731Z
LAST-MODIFIED:20221121T105737Z
UID:8852-1669917600-1669921200@ukinurheilukeskus.fi
SUMMARY:Power Lihaskuntotunti
DESCRIPTION:Ohjaaja Mia \n
URL:https://ukinurheilukeskus.fi/event/power-lihaskuntotunti-7/2022-12-01/
LOCATION:Mältintie 10\, Uusikaupunki\, 23500\, Suomi
END:VEVENT
END:VCALENDAR