BEGIN:VCALENDAR
VERSION:2.0
PRODID:-//Uudenkaupungin Urheilukeskus - ECPv4.6.21//NONSGML v1.0//EN
CALSCALE:GREGORIAN
METHOD:PUBLISH
X-WR-CALNAME:Uudenkaupungin Urheilukeskus
X-ORIGINAL-URL:https://ukinurheilukeskus.fi
X-WR-CALDESC:Events for Uudenkaupungin Urheilukeskus
BEGIN:VEVENT
DTSTART;TZID=Europe/Helsinki:20230810T180000
DTEND;TZID=Europe/Helsinki:20230810T190000
DTSTAMP:20260423T060947
CREATED:20230801T142010Z
LAST-MODIFIED:20230801T142017Z
UID:9767-1691690400-1691694000@ukinurheilukeskus.fi
SUMMARY:Power Lihaskuntotunti
DESCRIPTION:Ohjaaja Mia \n
URL:https://ukinurheilukeskus.fi/event/power-lihaskuntotunti-22/
LOCATION:Mältintie 10\, Uusikaupunki\, 23500\, Suomi
END:VEVENT
END:VCALENDAR