BEGIN:VCALENDAR
VERSION:2.0
PRODID:-//Uudenkaupungin Urheilukeskus - ECPv4.6.21//NONSGML v1.0//EN
CALSCALE:GREGORIAN
METHOD:PUBLISH
X-WR-CALNAME:Uudenkaupungin Urheilukeskus
X-ORIGINAL-URL:https://ukinurheilukeskus.fi
X-WR-CALDESC:Events for Uudenkaupungin Urheilukeskus
BEGIN:VEVENT
DTSTART;TZID=Europe/Helsinki:20190812T180000
DTEND;TZID=Europe/Helsinki:20190812T190000
DTSTAMP:20260419T134245
CREATED:20190801T095558Z
LAST-MODIFIED:20190803T081118Z
UID:4818-1565632800-1565636400@ukinurheilukeskus.fi
SUMMARY:Pilates
DESCRIPTION:Tällä tunnilla keskitymme vahvistamaan keskivartaloamme pilateksen avulla sekä pyrimme vaikuttamaan selkärangan liikkuvuuteen ja hyvinvointiin. Tunti antaa erinomaiset työkalut selkävaivaisen elämää\, sillä syvien lihasten tärkeys selän hyvinvoinnissa on erityisen tärkeää. Pidä huolta itsestäsi ja tule rohkeasti mukaan\, ei vaadi aikaisempaa kokemusta pilateksesta. \nOhjaajana Merita \n
URL:https://ukinurheilukeskus.fi/event/pilates-2/2019-08-12/
LOCATION:Mältintie 10\, Uusikaupunki\, 23500\, Suomi
END:VEVENT
END:VCALENDAR